BEGIN:VCALENDAR
VERSION:2.0
PRODID:-//Loma Linda Chamber of Commerce - ECPv6.15.20//NONSGML v1.0//EN
CALSCALE:GREGORIAN
METHOD:PUBLISH
X-WR-CALNAME:Loma Linda Chamber of Commerce
X-ORIGINAL-URL:https://lomalindachamber.org
X-WR-CALDESC:Events for Loma Linda Chamber of Commerce
REFRESH-INTERVAL;VALUE=DURATION:PT1H
X-Robots-Tag:noindex
X-PUBLISHED-TTL:PT1H
BEGIN:VTIMEZONE
TZID:America/Los_Angeles
BEGIN:DAYLIGHT
TZOFFSETFROM:-0800
TZOFFSETTO:-0700
TZNAME:PDT
DTSTART:20250309T100000
END:DAYLIGHT
BEGIN:STANDARD
TZOFFSETFROM:-0700
TZOFFSETTO:-0800
TZNAME:PST
DTSTART:20251102T090000
END:STANDARD
BEGIN:DAYLIGHT
TZOFFSETFROM:-0800
TZOFFSETTO:-0700
TZNAME:PDT
DTSTART:20260308T100000
END:DAYLIGHT
BEGIN:STANDARD
TZOFFSETFROM:-0700
TZOFFSETTO:-0800
TZNAME:PST
DTSTART:20261101T090000
END:STANDARD
BEGIN:DAYLIGHT
TZOFFSETFROM:-0800
TZOFFSETTO:-0700
TZNAME:PDT
DTSTART:20270314T100000
END:DAYLIGHT
BEGIN:STANDARD
TZOFFSETFROM:-0700
TZOFFSETTO:-0800
TZNAME:PST
DTSTART:20271107T090000
END:STANDARD
END:VTIMEZONE
BEGIN:VEVENT
DTSTART;TZID=America/Los_Angeles:20260129T170000
DTEND;TZID=America/Los_Angeles:20260129T200000
DTSTAMP:20260421T140549
CREATED:20251231T230117Z
LAST-MODIFIED:20251231T230117Z
UID:7499-1769706000-1769716800@lomalindachamber.org
SUMMARY:Annual Awards & Installation Dinner
DESCRIPTION:CLICK HERE TO REGISTER – TICKET
URL:https://lomalindachamber.org/event/annual-awards-installation-dinner/
LOCATION:TownPlace Suites\, 10336 Richardson Street\,\, Loma LInda\, CA\, 92354\, United States
END:VEVENT
END:VCALENDAR