BEGIN:VCALENDAR
VERSION:2.0
PRODID:-//Loma Linda Chamber of Commerce - ECPv6.15.20//NONSGML v1.0//EN
CALSCALE:GREGORIAN
METHOD:PUBLISH
X-ORIGINAL-URL:https://lomalindachamber.org
X-WR-CALDESC:Events for Loma Linda Chamber of Commerce
REFRESH-INTERVAL;VALUE=DURATION:PT1H
X-Robots-Tag:noindex
X-PUBLISHED-TTL:PT1H
BEGIN:VTIMEZONE
TZID:America/Los_Angeles
BEGIN:DAYLIGHT
TZOFFSETFROM:-0800
TZOFFSETTO:-0700
TZNAME:PDT
DTSTART:20240310T100000
END:DAYLIGHT
BEGIN:STANDARD
TZOFFSETFROM:-0700
TZOFFSETTO:-0800
TZNAME:PST
DTSTART:20241103T090000
END:STANDARD
BEGIN:DAYLIGHT
TZOFFSETFROM:-0800
TZOFFSETTO:-0700
TZNAME:PDT
DTSTART:20250309T100000
END:DAYLIGHT
BEGIN:STANDARD
TZOFFSETFROM:-0700
TZOFFSETTO:-0800
TZNAME:PST
DTSTART:20251102T090000
END:STANDARD
BEGIN:DAYLIGHT
TZOFFSETFROM:-0800
TZOFFSETTO:-0700
TZNAME:PDT
DTSTART:20260308T100000
END:DAYLIGHT
BEGIN:STANDARD
TZOFFSETFROM:-0700
TZOFFSETTO:-0800
TZNAME:PST
DTSTART:20261101T090000
END:STANDARD
END:VTIMEZONE
BEGIN:VEVENT
DTSTART;TZID=America/Los_Angeles:20250507T080000
DTEND;TZID=America/Los_Angeles:20250507T090000
DTSTAMP:20260422T042436
CREATED:20250225T223301Z
LAST-MODIFIED:20250415T205110Z
UID:7055-1746604800-1746608400@lomalindachamber.org
SUMMARY:Business Breakfast
DESCRIPTION:Business Breakfast: The Chamber holds it’s Monthly Membership Breakfast on the first Wednesday of each month.  Please plan to join us.  SPECIAL GUEST SPEAKER: Dr. Anthony Hilliard\, CEO of Loma Linda University Health Hospitals \nWe meet at 8 a.m. at Angelo’s Restaurant / Najwa’s Cuisine\, 11275 Mountain View\, Suite D\, Loma Linda\, CA.  Doors open at 7:45 a.m. \nPlease RSVP – Cost is $25 for Members and $35 for potential members
URL:https://lomalindachamber.org/event/business-breakfast-2/
LOCATION:CA
END:VEVENT
END:VCALENDAR