BEGIN:VCALENDAR
VERSION:2.0
PRODID:-//Loma Linda Chamber of Commerce - ECPv6.15.20//NONSGML v1.0//EN
CALSCALE:GREGORIAN
METHOD:PUBLISH
X-ORIGINAL-URL:https://lomalindachamber.org
X-WR-CALDESC:Events for Loma Linda Chamber of Commerce
REFRESH-INTERVAL;VALUE=DURATION:PT1H
X-Robots-Tag:noindex
X-PUBLISHED-TTL:PT1H
BEGIN:VTIMEZONE
TZID:America/Los_Angeles
BEGIN:DAYLIGHT
TZOFFSETFROM:-0800
TZOFFSETTO:-0700
TZNAME:PDT
DTSTART:20240310T100000
END:DAYLIGHT
BEGIN:STANDARD
TZOFFSETFROM:-0700
TZOFFSETTO:-0800
TZNAME:PST
DTSTART:20241103T090000
END:STANDARD
BEGIN:DAYLIGHT
TZOFFSETFROM:-0800
TZOFFSETTO:-0700
TZNAME:PDT
DTSTART:20250309T100000
END:DAYLIGHT
BEGIN:STANDARD
TZOFFSETFROM:-0700
TZOFFSETTO:-0800
TZNAME:PST
DTSTART:20251102T090000
END:STANDARD
BEGIN:DAYLIGHT
TZOFFSETFROM:-0800
TZOFFSETTO:-0700
TZNAME:PDT
DTSTART:20260308T100000
END:DAYLIGHT
BEGIN:STANDARD
TZOFFSETFROM:-0700
TZOFFSETTO:-0800
TZNAME:PST
DTSTART:20261101T090000
END:STANDARD
END:VTIMEZONE
BEGIN:VEVENT
DTSTART;TZID=America/Los_Angeles:20251107T080000
DTEND;TZID=America/Los_Angeles:20251107T140000
DTSTAMP:20260421T192832
CREATED:20250918T200209Z
LAST-MODIFIED:20251027T171534Z
UID:7305-1762502400-1762524000@lomalindachamber.org
SUMMARY:LOMA LINDA LEADERSHIP SUMMIT: 2025 AI in the IE
DESCRIPTION:Payment Link: https://square.link/u/NFsOryvr \nLeaders in AI to discuss AI in the IE \nSummit Speakers include: \nCongressman Jay Obernolte\, Chairman\, Congressional Task Force on AI \nDr. Anthony Hilliard\, CEO\, Loma Linda University Health Hospitals \nDr. Vincent Nestler\, Director\, CSUSB Center for Cyber and AI \nJay Theodore\, Chief Tech Officer\, ESRI \nBill Phillips\, Senior Manager\, Systems Engineer\, ESRI \nLoma Linda Chamber of Commerce proudly presents its first Loma Linda Leadership Summit. Our partners are the City of Loma Linda and Loma Linda University Health. \nOur sponsors include CR&R and Mr. Tim Evans \n$150 PER PERSON\n$175 after October 28th\nDOORS OPEN AT 8:00 A.M.\nDRAYSON CENTER\, LLUH\nCONTACT LOMA LINDA CHAMBER OF COMMERCE\n(909) 799-2828 \nPurchase your seat\, click here Payment Link: https://square.link/u/NFsOryvr \nFINAL LOMA LINDA LEADERSHIP SUMMIT 2025 Invitation (10 17) \nLOMA LINDA LEADERSHIP SUMMIT 2025 Sponsorships (pdf)
URL:https://lomalindachamber.org/event/loma-linda-leadership-summit-2025-ai-in-the-ie/
LOCATION:CA
END:VEVENT
END:VCALENDAR